BEGIN:VCALENDAR
VERSION:2.0
PRODID:-//Michèle Bréant - ECPv6.0.13.1//NONSGML v1.0//EN
CALSCALE:GREGORIAN
METHOD:PUBLISH
X-ORIGINAL-URL:https://www.michelebreant.com
X-WR-CALDESC:évènements pour Michèle Bréant
REFRESH-INTERVAL;VALUE=DURATION:PT1H
X-Robots-Tag:noindex
X-PUBLISHED-TTL:PT1H
BEGIN:VTIMEZONE
TZID:Europe/Zurich
BEGIN:DAYLIGHT
TZOFFSETFROM:+0100
TZOFFSETTO:+0200
TZNAME:CEST
DTSTART:20260329T010000
END:DAYLIGHT
BEGIN:STANDARD
TZOFFSETFROM:+0200
TZOFFSETTO:+0100
TZNAME:CET
DTSTART:20261025T010000
END:STANDARD
END:VTIMEZONE
BEGIN:VEVENT
DTSTART;TZID=Europe/Zurich:20260301T180000
DTEND;TZID=Europe/Zurich:20260301T200000
DTSTAMP:20260420T131128
CREATED:20250820T174309Z
LAST-MODIFIED:20250820T174351Z
UID:29736-1772388000-1772395200@www.michelebreant.com
SUMMARY:Soprano solo\, Mahler 4\, orchestre de Bordeaux
DESCRIPTION:
URL:https://www.michelebreant.com/event/soprano-solo-mahler-4-orchestre-de-bordeaux-2/
LOCATION:Théâtre Olympia\, Arcachon
END:VEVENT
BEGIN:VEVENT
DTSTART;TZID=Europe/Zurich:20260317T200000
DTEND;TZID=Europe/Zurich:20260317T220000
DTSTAMP:20260420T131128
CREATED:20250820T170820Z
LAST-MODIFIED:20250823T144319Z
UID:29717-1773777600-1773784800@www.michelebreant.com
SUMMARY:Soprano I\, Leçons de ténèbres\, Couperin\, Les Talens Lyriques
DESCRIPTION:
URL:https://www.michelebreant.com/event/lecons-de-tenebres-couperin-les-talents-lyriques/
LOCATION:Chapelle Corneille\, Rouen
END:VEVENT
BEGIN:VEVENT
DTSTART;TZID=Europe/Zurich:20260319T190000
DTEND;TZID=Europe/Zurich:20260319T210000
DTSTAMP:20260420T131128
CREATED:20250820T171727Z
LAST-MODIFIED:20250823T143926Z
UID:29722-1773946800-1773954000@www.michelebreant.com
SUMMARY:Soprano I\, Leçons de ténèbres\, Couperin\, Les Talens Lyriques
DESCRIPTION:
URL:https://www.michelebreant.com/event/soprano-i-lecons-de-tenebres-couperin-les-talents-lyriques/
LOCATION:Oslo Cathedral
END:VEVENT
BEGIN:VEVENT
DTSTART;TZID=Europe/Zurich:20260321T203000
DTEND;TZID=Europe/Zurich:20260321T223000
DTSTAMP:20260420T131128
CREATED:20250823T144202Z
LAST-MODIFIED:20251010T200033Z
UID:29821-1774125000-1774132200@www.michelebreant.com
SUMMARY:Soprano I\, Leçons de ténèbres\, Couperin\, Les Talens Lyriques
DESCRIPTION:
URL:https://www.michelebreant.com/event/soprano-i-lecons-de-tenebres-couperin-les-talens-lyriques/
LOCATION:Salle Cortot
END:VEVENT
END:VCALENDAR