BEGIN:VCALENDAR
VERSION:2.0
PRODID:-//Michèle Bréant - ECPv6.0.13.1//NONSGML v1.0//EN
CALSCALE:GREGORIAN
METHOD:PUBLISH
X-ORIGINAL-URL:https://www.michelebreant.com
X-WR-CALDESC:évènements pour Michèle Bréant
REFRESH-INTERVAL;VALUE=DURATION:PT1H
X-Robots-Tag:noindex
X-PUBLISHED-TTL:PT1H
BEGIN:VTIMEZONE
TZID:Europe/Zurich
BEGIN:DAYLIGHT
TZOFFSETFROM:+0100
TZOFFSETTO:+0200
TZNAME:CEST
DTSTART:20260329T010000
END:DAYLIGHT
BEGIN:STANDARD
TZOFFSETFROM:+0200
TZOFFSETTO:+0100
TZNAME:CET
DTSTART:20261025T010000
END:STANDARD
END:VTIMEZONE
BEGIN:VEVENT
DTSTART;TZID=Europe/Zurich:20260117T180000
DTEND;TZID=Europe/Zurich:20260117T210000
DTSTAMP:20260420T101439
CREATED:20250820T175138Z
LAST-MODIFIED:20250820T175205Z
UID:29740-1768672800-1768683600@www.michelebreant.com
SUMMARY:Zerlina\, Don Giovanni\, Mozart\, Le Concert de la Loge
DESCRIPTION:
URL:https://www.michelebreant.com/event/zerlina-don-giovanni-mozart-le-concert-de-la-loge-4/
LOCATION:Atelier Lyrique de Tourcoing
END:VEVENT
BEGIN:VEVENT
DTSTART;TZID=Europe/Zurich:20260118T153000
DTEND;TZID=Europe/Zurich:20260118T183000
DTSTAMP:20260420T101439
CREATED:20250820T175304Z
LAST-MODIFIED:20250820T175402Z
UID:29742-1768750200-1768761000@www.michelebreant.com
SUMMARY:Zerlina\, Don Giovanni\, Mozart\, Le Concert de la Loge
DESCRIPTION:
URL:https://www.michelebreant.com/event/zerlina-don-giovanni-mozart-le-concert-de-la-loge-5/
LOCATION:Atelier Lyrique de Tourcoing
END:VEVENT
BEGIN:VEVENT
DTSTART;TZID=Europe/Zurich:20260125T150000
DTEND;TZID=Europe/Zurich:20260125T180000
DTSTAMP:20260420T101439
CREATED:20250524T142353Z
LAST-MODIFIED:20250524T142353Z
UID:29685-1769353200-1769364000@www.michelebreant.com
SUMMARY:Sœur Constance dans Dialogues des Carmélites\, Poulenc
DESCRIPTION:
URL:https://www.michelebreant.com/event/soeur-constance-dans-dialogues-des-carmelites-poulenc/
LOCATION:Opéra de Nancy
END:VEVENT
BEGIN:VEVENT
DTSTART;TZID=Europe/Zurich:20260127T200000
DTEND;TZID=Europe/Zurich:20260127T230000
DTSTAMP:20260420T101439
CREATED:20250524T142456Z
LAST-MODIFIED:20250524T142456Z
UID:29687-1769544000-1769554800@www.michelebreant.com
SUMMARY:Sœur Constance dans Dialogues des Carmélites\, Poulenc
DESCRIPTION:
URL:https://www.michelebreant.com/event/soeur-constance-dans-dialogues-des-carmelites-poulenc-2/
LOCATION:Opéra de Nancy
END:VEVENT
BEGIN:VEVENT
DTSTART;TZID=Europe/Zurich:20260129T200000
DTEND;TZID=Europe/Zurich:20260129T230000
DTSTAMP:20260420T101439
CREATED:20250524T142547Z
LAST-MODIFIED:20250524T142547Z
UID:29689-1769716800-1769727600@www.michelebreant.com
SUMMARY:Sœur Constance dans Dialogues des Carmélites\, Poulenc
DESCRIPTION:
URL:https://www.michelebreant.com/event/soeur-constance-dans-dialogues-des-carmelites-poulenc-3/
LOCATION:Opéra de Nancy
END:VEVENT
BEGIN:VEVENT
DTSTART;TZID=Europe/Zurich:20260131T170000
DTEND;TZID=Europe/Zurich:20260131T200000
DTSTAMP:20260420T101439
CREATED:20250524T142657Z
LAST-MODIFIED:20250524T142657Z
UID:29691-1769878800-1769889600@www.michelebreant.com
SUMMARY:Sœur Constance dans Dialogues des Carmélites\, Poulenc
DESCRIPTION:
URL:https://www.michelebreant.com/event/soeur-constance-dans-dialogues-des-carmelites-poulenc-4/
LOCATION:Opéra de Nancy
END:VEVENT
END:VCALENDAR