BEGIN:VCALENDAR
VERSION:2.0
PRODID:-//Michèle Bréant - ECPv6.0.13.1//NONSGML v1.0//EN
CALSCALE:GREGORIAN
METHOD:PUBLISH
X-ORIGINAL-URL:https://www.michelebreant.com
X-WR-CALDESC:évènements pour Michèle Bréant
REFRESH-INTERVAL;VALUE=DURATION:PT1H
X-Robots-Tag:noindex
X-PUBLISHED-TTL:PT1H
BEGIN:VTIMEZONE
TZID:Europe/Zurich
BEGIN:DAYLIGHT
TZOFFSETFROM:+0100
TZOFFSETTO:+0200
TZNAME:CEST
DTSTART:20250330T010000
END:DAYLIGHT
BEGIN:STANDARD
TZOFFSETFROM:+0200
TZOFFSETTO:+0100
TZNAME:CET
DTSTART:20251026T010000
END:STANDARD
END:VTIMEZONE
BEGIN:VEVENT
DTSTART;TZID=Europe/Zurich:20250702T190000
DTEND;TZID=Europe/Zurich:20250702T230000
DTSTAMP:20260419T164526
CREATED:20250513T093720Z
LAST-MODIFIED:20250513T093720Z
UID:29653-1751482800-1751497200@www.michelebreant.com
SUMMARY:Gala de l’Opéra-Comique
DESCRIPTION:
URL:https://www.michelebreant.com/event/gala-de-lopera-comique/
LOCATION:Opéra Comique
END:VEVENT
END:VCALENDAR