BEGIN:VCALENDAR
VERSION:2.0
PRODID:-//Michèle Bréant - ECPv6.0.13.1//NONSGML v1.0//EN
CALSCALE:GREGORIAN
METHOD:PUBLISH
X-WR-CALNAME:Michèle Bréant
X-ORIGINAL-URL:https://www.michelebreant.com
X-WR-CALDESC:évènements pour Michèle Bréant
REFRESH-INTERVAL;VALUE=DURATION:PT1H
X-Robots-Tag:noindex
X-PUBLISHED-TTL:PT1H
BEGIN:VTIMEZONE
TZID:Europe/Zurich
BEGIN:DAYLIGHT
TZOFFSETFROM:+0100
TZOFFSETTO:+0200
TZNAME:CEST
DTSTART:20250330T010000
END:DAYLIGHT
BEGIN:STANDARD
TZOFFSETFROM:+0200
TZOFFSETTO:+0100
TZNAME:CET
DTSTART:20251026T010000
END:STANDARD
END:VTIMEZONE
BEGIN:VEVENT
DTSTART;TZID=Europe/Zurich:20250208T200000
DTEND;TZID=Europe/Zurich:20250208T223000
DTSTAMP:20260421T175252
CREATED:20240714T172809Z
LAST-MODIFIED:20240714T173630Z
UID:29500-1739044800-1739053800@www.michelebreant.com
SUMMARY:Première servante\, Médée\, Cherubini
DESCRIPTION:Direction Laurence Equilbey\, Insula Orchestra – \nMise en scène Marie-Ève Signeyrole
URL:https://www.michelebreant.com/event/premiere-servante-medee-cherubini/
LOCATION:Opéra Comique
END:VEVENT
BEGIN:VEVENT
DTSTART;TZID=Europe/Zurich:20250210T200000
DTEND;TZID=Europe/Zurich:20250210T223000
DTSTAMP:20260421T175252
CREATED:20240714T173236Z
LAST-MODIFIED:20240714T173555Z
UID:29503-1739217600-1739226600@www.michelebreant.com
SUMMARY:Première servante\, Médée\, Cherubini
DESCRIPTION:Direction Laurence Equilbey\, Insula Orchestra – \nMise en scène Marie-Ève Signeyrole
URL:https://www.michelebreant.com/event/premiere-servante-medee-cherubini-2/
LOCATION:Opéra Comique
END:VEVENT
BEGIN:VEVENT
DTSTART;TZID=Europe/Zurich:20250212T200000
DTEND;TZID=Europe/Zurich:20250212T223000
DTSTAMP:20260421T175252
CREATED:20240714T173819Z
LAST-MODIFIED:20240714T173819Z
UID:29509-1739390400-1739399400@www.michelebreant.com
SUMMARY:Première servante\, Médée\, Cherubini
DESCRIPTION:Direction Laurence Equilbey\, Insula Orchestra – \nMise en scène Marie-Ève Signeyrole
URL:https://www.michelebreant.com/event/premiere-servante-medee-cherubini-3/
LOCATION:Opéra Comique
END:VEVENT
BEGIN:VEVENT
DTSTART;TZID=Europe/Zurich:20250214T200000
DTEND;TZID=Europe/Zurich:20250214T223000
DTSTAMP:20260421T175252
CREATED:20240714T174006Z
LAST-MODIFIED:20240714T174006Z
UID:29511-1739563200-1739572200@www.michelebreant.com
SUMMARY:Première servante\, Médée\, Cherubini
DESCRIPTION:Direction Laurence Equilbey\, Insula Orchestra – \nMise en scène Marie-Ève Signeyrole
URL:https://www.michelebreant.com/event/premiere-servante-medee-cherubini-4/
LOCATION:Opéra Comique
END:VEVENT
BEGIN:VEVENT
DTSTART;TZID=Europe/Zurich:20250216T150000
DTEND;TZID=Europe/Zurich:20250216T170000
DTSTAMP:20260421T175252
CREATED:20240714T174126Z
LAST-MODIFIED:20240714T174126Z
UID:29513-1739718000-1739725200@www.michelebreant.com
SUMMARY:Première servante\, Médée\, Cherubini
DESCRIPTION:Direction Laurence Equilbey\, Insula Orchestra – \nMise en scène Marie-Ève Signeyrole
URL:https://www.michelebreant.com/event/premiere-servante-medee-cherubini-5/
LOCATION:Opéra Comique
END:VEVENT
BEGIN:VEVENT
DTSTART;TZID=Europe/Zurich:20250223T170000
DTEND;TZID=Europe/Zurich:20250223T200000
DTSTAMP:20260421T175252
CREATED:20240714T102758Z
LAST-MODIFIED:20240714T174256Z
UID:29493-1740330000-1740340800@www.michelebreant.com
SUMMARY:Euridice\, Orfeo\, Sartorio
DESCRIPTION:Direction Philippe Jaroussky\, ensemble Artaserse – \nMise en scène Benjamin Lazar
URL:https://www.michelebreant.com/event/euridice-orfeo-sartorio-3/
LOCATION:La Coursive\, La Rochelle
END:VEVENT
END:VCALENDAR