BEGIN:VCALENDAR
VERSION:2.0
PRODID:-//Michèle Bréant - ECPv6.0.13.1//NONSGML v1.0//EN
CALSCALE:GREGORIAN
METHOD:PUBLISH
X-WR-CALNAME:Michèle Bréant
X-ORIGINAL-URL:https://www.michelebreant.com
X-WR-CALDESC:évènements pour Michèle Bréant
REFRESH-INTERVAL;VALUE=DURATION:PT1H
X-Robots-Tag:noindex
X-PUBLISHED-TTL:PT1H
BEGIN:VTIMEZONE
TZID:Europe/Zurich
BEGIN:DAYLIGHT
TZOFFSETFROM:+0100
TZOFFSETTO:+0200
TZNAME:CEST
DTSTART:20240331T010000
END:DAYLIGHT
BEGIN:STANDARD
TZOFFSETFROM:+0200
TZOFFSETTO:+0100
TZNAME:CET
DTSTART:20241027T010000
END:STANDARD
END:VTIMEZONE
BEGIN:VEVENT
DTSTART;TZID=Europe/Zurich:20240830T203000
DTEND;TZID=Europe/Zurich:20240830T203000
DTSTAMP:20260422T103537
CREATED:20240709T150504Z
LAST-MODIFIED:20240709T150504Z
UID:29445-1725049800-1725049800@www.michelebreant.com
SUMMARY:Les musicales de Normandie\, Talents Adami Classique
DESCRIPTION:
URL:https://www.michelebreant.com/event/les-musicales-de-normandie-talents-adami-classique/
LOCATION:Théâtre de Louviers
END:VEVENT
END:VCALENDAR