BEGIN:VCALENDAR
VERSION:2.0
PRODID:-//Michèle Bréant - ECPv6.0.13.1//NONSGML v1.0//EN
CALSCALE:GREGORIAN
METHOD:PUBLISH
X-WR-CALNAME:Michèle Bréant
X-ORIGINAL-URL:https://www.michelebreant.com
X-WR-CALDESC:évènements pour Michèle Bréant
REFRESH-INTERVAL;VALUE=DURATION:PT1H
X-Robots-Tag:noindex
X-PUBLISHED-TTL:PT1H
BEGIN:VTIMEZONE
TZID:Europe/Zurich
BEGIN:DAYLIGHT
TZOFFSETFROM:+0100
TZOFFSETTO:+0200
TZNAME:CEST
DTSTART:20260329T010000
END:DAYLIGHT
BEGIN:STANDARD
TZOFFSETFROM:+0200
TZOFFSETTO:+0100
TZNAME:CET
DTSTART:20261025T010000
END:STANDARD
END:VTIMEZONE
BEGIN:VEVENT
DTSTART;TZID=Europe/Zurich:20260301T180000
DTEND;TZID=Europe/Zurich:20260301T200000
DTSTAMP:20260422T142321
CREATED:20250820T174309Z
LAST-MODIFIED:20250820T174351Z
UID:29736-1772388000-1772395200@www.michelebreant.com
SUMMARY:Soprano solo\, Mahler 4\, orchestre de Bordeaux
DESCRIPTION:
URL:https://www.michelebreant.com/event/soprano-solo-mahler-4-orchestre-de-bordeaux-2/
LOCATION:Théâtre Olympia\, Arcachon
END:VEVENT
END:VCALENDAR