BEGIN:VCALENDAR
VERSION:2.0
PRODID:-//Michèle Bréant - ECPv6.0.13.1//NONSGML v1.0//EN
CALSCALE:GREGORIAN
METHOD:PUBLISH
X-ORIGINAL-URL:https://www.michelebreant.com
X-WR-CALDESC:évènements pour Michèle Bréant
REFRESH-INTERVAL;VALUE=DURATION:PT1H
X-Robots-Tag:noindex
X-PUBLISHED-TTL:PT1H
BEGIN:VTIMEZONE
TZID:Europe/Zurich
BEGIN:DAYLIGHT
TZOFFSETFROM:+0100
TZOFFSETTO:+0200
TZNAME:CEST
DTSTART:20250330T010000
END:DAYLIGHT
BEGIN:STANDARD
TZOFFSETFROM:+0200
TZOFFSETTO:+0100
TZNAME:CET
DTSTART:20251026T010000
END:STANDARD
END:VTIMEZONE
BEGIN:VEVENT
DTSTART;TZID=Europe/Zurich:20251104T200000
DTEND;TZID=Europe/Zurich:20251104T230000
DTSTAMP:20260420T050407
CREATED:20250820T200311Z
LAST-MODIFIED:20250823T144647Z
UID:29766-1762286400-1762297200@www.michelebreant.com
SUMMARY:Dorinda\, Orlando\, Haendel\, Les Talens Lyriques
DESCRIPTION:
URL:https://www.michelebreant.com/event/dorinda-orlando-haendel-les-talents-lyriques-4/
LOCATION:Théâtre de Caen
END:VEVENT
END:VCALENDAR