BEGIN:VCALENDAR
VERSION:2.0
PRODID:-//Michèle Bréant - ECPv6.0.13.1//NONSGML v1.0//EN
CALSCALE:GREGORIAN
METHOD:PUBLISH
X-WR-CALNAME:Michèle Bréant
X-ORIGINAL-URL:https://www.michelebreant.com
X-WR-CALDESC:évènements pour Michèle Bréant
REFRESH-INTERVAL;VALUE=DURATION:PT1H
X-Robots-Tag:noindex
X-PUBLISHED-TTL:PT1H
BEGIN:VTIMEZONE
TZID:Europe/Zurich
BEGIN:DAYLIGHT
TZOFFSETFROM:+0100
TZOFFSETTO:+0200
TZNAME:CEST
DTSTART:20250330T010000
END:DAYLIGHT
BEGIN:STANDARD
TZOFFSETFROM:+0200
TZOFFSETTO:+0100
TZNAME:CET
DTSTART:20251026T010000
END:STANDARD
END:VTIMEZONE
BEGIN:VEVENT
DTSTART;TZID=Europe/Zurich:20251003T200000
DTEND;TZID=Europe/Zurich:20251003T230000
DTSTAMP:20260419T235107
CREATED:20250524T141800Z
LAST-MODIFIED:20250904T142551Z
UID:29674-1759521600-1759532400@www.michelebreant.com
SUMMARY:Dorinda\, Orlando\, Haendel\, Christophe Rousset
DESCRIPTION:
URL:https://www.michelebreant.com/event/dorinda-dans-orlando-haendel/
LOCATION:Opéra de Nancy
END:VEVENT
END:VCALENDAR