BEGIN:VCALENDAR
VERSION:2.0
PRODID:-//Michèle Bréant - ECPv6.0.13.1//NONSGML v1.0//EN
CALSCALE:GREGORIAN
METHOD:PUBLISH
X-WR-CALNAME:Michèle Bréant
X-ORIGINAL-URL:https://www.michelebreant.com
X-WR-CALDESC:évènements pour Michèle Bréant
REFRESH-INTERVAL;VALUE=DURATION:PT1H
X-Robots-Tag:noindex
X-PUBLISHED-TTL:PT1H
BEGIN:VTIMEZONE
TZID:Europe/Zurich
BEGIN:DAYLIGHT
TZOFFSETFROM:+0100
TZOFFSETTO:+0200
TZNAME:CEST
DTSTART:20250330T010000
END:DAYLIGHT
BEGIN:STANDARD
TZOFFSETFROM:+0200
TZOFFSETTO:+0100
TZNAME:CET
DTSTART:20251026T010000
END:STANDARD
END:VTIMEZONE
BEGIN:VEVENT
DTSTART;TZID=Europe/Zurich:20250811T203000
DTEND;TZID=Europe/Zurich:20250811T220000
DTSTAMP:20260419T201139
CREATED:20250513T094811Z
LAST-MODIFIED:20250513T094929Z
UID:29670-1754944200-1754949600@www.michelebreant.com
SUMMARY:Récital jeunes talents\, Musique en Sol
DESCRIPTION:Gabriel Durliat\, Emmanuel Coppey\, Stéphanie Huang
URL:https://www.michelebreant.com/event/recital-jeunes-talents-musique-en-sol/
END:VEVENT
END:VCALENDAR