BEGIN:VCALENDAR
VERSION:2.0
PRODID:-//Michèle Bréant - ECPv6.0.13.1//NONSGML v1.0//EN
CALSCALE:GREGORIAN
METHOD:PUBLISH
X-ORIGINAL-URL:https://www.michelebreant.com
X-WR-CALDESC:évènements pour Michèle Bréant
REFRESH-INTERVAL;VALUE=DURATION:PT1H
X-Robots-Tag:noindex
X-PUBLISHED-TTL:PT1H
BEGIN:VTIMEZONE
TZID:Europe/Zurich
BEGIN:DAYLIGHT
TZOFFSETFROM:+0100
TZOFFSETTO:+0200
TZNAME:CEST
DTSTART:20250330T010000
END:DAYLIGHT
BEGIN:STANDARD
TZOFFSETFROM:+0200
TZOFFSETTO:+0100
TZNAME:CET
DTSTART:20251026T010000
END:STANDARD
END:VTIMEZONE
BEGIN:VEVENT
DTSTART;TZID=Europe/Zurich:20250216T150000
DTEND;TZID=Europe/Zurich:20250216T170000
DTSTAMP:20260421T211038
CREATED:20240714T174126Z
LAST-MODIFIED:20240714T174126Z
UID:29513-1739718000-1739725200@www.michelebreant.com
SUMMARY:Première servante\, Médée\, Cherubini
DESCRIPTION:Direction Laurence Equilbey\, Insula Orchestra – \nMise en scène Marie-Ève Signeyrole
URL:https://www.michelebreant.com/event/premiere-servante-medee-cherubini-5/
LOCATION:Opéra Comique
END:VEVENT
END:VCALENDAR