BEGIN:VCALENDAR
VERSION:2.0
PRODID:-//Michèle Bréant - ECPv6.0.13.1//NONSGML v1.0//EN
CALSCALE:GREGORIAN
METHOD:PUBLISH
X-WR-CALNAME:Michèle Bréant
X-ORIGINAL-URL:https://www.michelebreant.com
X-WR-CALDESC:évènements pour Michèle Bréant
REFRESH-INTERVAL;VALUE=DURATION:PT1H
X-Robots-Tag:noindex
X-PUBLISHED-TTL:PT1H
BEGIN:VTIMEZONE
TZID:Europe/Zurich
BEGIN:DAYLIGHT
TZOFFSETFROM:+0100
TZOFFSETTO:+0200
TZNAME:CEST
DTSTART:20240331T010000
END:DAYLIGHT
BEGIN:STANDARD
TZOFFSETFROM:+0200
TZOFFSETTO:+0100
TZNAME:CET
DTSTART:20241027T010000
END:STANDARD
END:VTIMEZONE
BEGIN:VEVENT
DTSTART;TZID=Europe/Zurich:20240302T200000
DTEND;TZID=Europe/Zurich:20240302T230000
DTSTAMP:20260423T010045
CREATED:20230601T131341Z
LAST-MODIFIED:20230805T115007Z
UID:29238-1709409600-1709420400@www.michelebreant.com
SUMMARY:Euridice dans l'Orfeo de Sartorio
DESCRIPTION:Ensemble Artaserse\, Direction Philippe Jaroussky
URL:https://www.michelebreant.com/event/euridice-dans-lorfeo-de-sartorio-5/
LOCATION:Théatre Bords de Scènes
END:VEVENT
END:VCALENDAR