BEGIN:VCALENDAR
VERSION:2.0
PRODID:-//Michèle Bréant - ECPv6.0.13.1//NONSGML v1.0//EN
CALSCALE:GREGORIAN
METHOD:PUBLISH
X-WR-CALNAME:Michèle Bréant
X-ORIGINAL-URL:https://www.michelebreant.com
X-WR-CALDESC:évènements pour Michèle Bréant
REFRESH-INTERVAL;VALUE=DURATION:PT1H
X-Robots-Tag:noindex
X-PUBLISHED-TTL:PT1H
BEGIN:VTIMEZONE
TZID:Europe/Zurich
BEGIN:DAYLIGHT
TZOFFSETFROM:+0100
TZOFFSETTO:+0200
TZNAME:CEST
DTSTART:20230326T010000
END:DAYLIGHT
BEGIN:STANDARD
TZOFFSETFROM:+0200
TZOFFSETTO:+0100
TZNAME:CET
DTSTART:20231029T010000
END:STANDARD
END:VTIMEZONE
BEGIN:VEVENT
DTSTART;TZID=Europe/Zurich:20231004T193000
DTEND;TZID=Europe/Zurich:20231004T223000
DTSTAMP:20260423T054705
CREATED:20230601T131007Z
LAST-MODIFIED:20230805T114631Z
UID:29232-1696447800-1696458600@www.michelebreant.com
SUMMARY:Euridice dans l'Orfeo de Sartorio
DESCRIPTION:Ensemble Artaserse\, Direction Philippe Jaroussky
URL:https://www.michelebreant.com/event/euridice-dans-lorfeo-de-sartorio-3/
LOCATION:Tandem d’Arras
END:VEVENT
END:VCALENDAR